BEGIN:VCALENDAR
VERSION:2.0
PRODID:icalendar-ruby
CALSCALE:GREGORIAN
METHOD:PUBLISH
BEGIN:VEVENT
DTSTAMP:20260419T121516Z
UID:181-469592@pergolachurch.com
DTSTART:20260419T180000Z
DTEND:20260419T200000Z
CLASS:PUBLIC
CREATED:20260418T145557
DESCRIPTION:Join us this Sunday afternoon for April Birthday Fun at Dove’
 s Nest! \n\nThe Birthday Bingo Celebration is from 2:00 PM to 4:00 PM! Win
 ners will receive huge candy bars.\nYou must be sixteen or older to attend
 .  Click this link for directions.\n
LAST-MODIFIED:20260418T145557
LOCATION:
SUMMARY:Dove's Nest | April Birthdays 
URL;VALUE=URI:https://www.pergolachurch.com/events/doves-nest-april-birthda
 ys/2026-04-19
ATTACH;FILENAME=db9c7330-3f4e-9f74-910d-610717836cd4.jpeg;FMTTYPE=image/jpe
 g:https://dq5pwpg1q8ru0.cloudfront.net/2026/04/18/18/55/56/8d57569d-c4f6-4
 f8d-a218-4c26d5f7c68b/db9c7330-3f4e-9f74-910d-610717836cd4.jpeg
END:VEVENT
END:VCALENDAR
